BEGIN:VCALENDAR
VERSION:2.0
PRODID:Events Booking
BEGIN:VEVENT
UID:69e99666cbaf6
SUMMARY:CSI-MS4 Nebraska - Iowa (CT)
DESCRIPTION:
DTSTART:20260914T153000Z
DTEND:20260915T233000Z
DTSTAMP:20251216T071852Z
ORGANIZER;CN=National Stormwater Center:MAILTO:npdes@formationsdev.com
END:VEVENT
END:VCALENDAR