BEGIN:VCALENDAR
VERSION:2.0
PRODID:Events Booking
BEGIN:VEVENT
UID:69ec05f15d0ac
SUMMARY:CSI MS4 Re-Certification 
DESCRIPTION:
DTSTART:20260923T173000Z
DTEND:20260923T233000Z
DTSTAMP:20251218T054033Z
ORGANIZER;CN=National Stormwater Center:MAILTO:npdes@formationsdev.com
END:VEVENT
END:VCALENDAR