BEGIN:VCALENDAR
VERSION:2.0
PRODID:Events Booking
BEGIN:VEVENT
UID:69ec0539d12ed
SUMMARY:CSI-MS4 Alabama-Mississippi (CT)
DESCRIPTION:
DTSTART:20261001T153000Z
DTEND:20261002T233000Z
DTSTAMP:20251218T051445Z
ORGANIZER;CN=National Stormwater Center:MAILTO:npdes@formationsdev.com
END:VEVENT
END:VCALENDAR