BEGIN:VCALENDAR
VERSION:2.0
PRODID:Events Booking
BEGIN:VEVENT
UID:69ebf0c7a9b08
SUMMARY:Industrial: Sector O - Steam Electric Power Generating Facilities
DESCRIPTION:
DTSTART:20260701T200000Z
DTEND:20260701T210000Z
DTSTAMP:20260117T223115Z
ORGANIZER;CN=National Stormwater Center:MAILTO:npdes@formationsdev.com
END:VEVENT
END:VCALENDAR